BEGIN:VCALENDAR
VERSION:2.0
PRODID:-//kyohatsu//JP
CALSCALE:GREGORIAN
BEGIN:VEVENT
DTSTART;VALUE=DATE:20260715
SUMMARY:KING OF IDOL HISTORY in TBS Vol.2
DESCRIPTION:田原俊彦 TBS、TBSグロウディア
UID:4988031852996@kyohatsu.lb-product.com
END:VEVENT
BEGIN:VEVENT
DTSTART;VALUE=DATE:20260715
SUMMARY:KING OF IDOL HISTORY in TBS Vol.2【Blu-ray】
DESCRIPTION:田原俊彦 TBS、TBSグロウディア
UID:4988031853009@kyohatsu.lb-product.com
END:VEVENT
END:VCALENDAR
