BEGIN:VCALENDAR
VERSION:2.0
PRODID:-//kyohatsu//JP
CALSCALE:GREGORIAN
BEGIN:VEVENT
DTSTART;VALUE=DATE:20260528
SUMMARY:「世界再編」は日本がリードする　自然・調和・十七条憲法で紡ぐ日本人論
DESCRIPTION:田中英道 扶桑社
UID:9784594102746@kyohatsu.lb-product.com
END:VEVENT
END:VCALENDAR
