BEGIN:VCALENDAR
VERSION:2.0
PRODID:-//kyohatsu//JP
CALSCALE:GREGORIAN
BEGIN:VEVENT
DTSTART;VALUE=DATE:20260603
SUMMARY:ONE PIECE ワンピース 21STシーズン エッグヘッド編 PIECE.23
DESCRIPTION:田中真弓 エイベックス・ピクチャーズ(株)
UID:4580055369797@kyohatsu.lb-product.com
END:VEVENT
BEGIN:VEVENT
DTSTART;VALUE=DATE:20260603
SUMMARY:ONE PIECE ワンピース 21STシーズン エッグヘッド編 PIECE.23【Blu-ray】
DESCRIPTION:田中真弓 エイベックス・ピクチャーズ(株)
UID:4580055369803@kyohatsu.lb-product.com
END:VEVENT
END:VCALENDAR
