BEGIN:VCALENDAR
VERSION:2.0
PRODID:-//kyohatsu//JP
CALSCALE:GREGORIAN
BEGIN:VEVENT
DTSTART;VALUE=DATE:20260605
SUMMARY:若旦那は名探偵　幽霊になった男
DESCRIPTION:田中　啓文 実業之日本社
UID:9784408560182@kyohatsu.lb-product.com
END:VEVENT
END:VCALENDAR
