BEGIN:VCALENDAR
VERSION:2.0
PRODID:-//kyohatsu//JP
CALSCALE:GREGORIAN
BEGIN:VEVENT
DTSTART;VALUE=DATE:20260603
SUMMARY:甘い暴力 流出盤4 九年目の招待【Blu-ray】
DESCRIPTION:甘い暴力 CRIMZON
UID:4523949119108@kyohatsu.lb-product.com
END:VEVENT
END:VCALENDAR
