BEGIN:VCALENDAR
VERSION:2.0
PRODID:-//kyohatsu//JP
CALSCALE:GREGORIAN
BEGIN:VEVENT
DTSTART;VALUE=DATE:20260601
SUMMARY:その婚約破棄、聞き飽きました
DESCRIPTION:琴乃葉 TOブックス
UID:9784868540199@kyohatsu.lb-product.com
END:VEVENT
END:VCALENDAR
