BEGIN:VCALENDAR
VERSION:2.0
PRODID:-//kyohatsu//JP
CALSCALE:GREGORIAN
BEGIN:VEVENT
DTSTART;VALUE=DATE:20260609
SUMMARY:キラキラの壊し方（2）
DESCRIPTION:玖々嶌 社 講談社
UID:9784065437513@kyohatsu.lb-product.com
END:VEVENT
END:VCALENDAR
