BEGIN:VCALENDAR
VERSION:2.0
PRODID:-//kyohatsu//JP
CALSCALE:GREGORIAN
BEGIN:VEVENT
DTSTART;VALUE=DATE:20260513
SUMMARY:しりとりきんちゃく
DESCRIPTION:玉田　美知子 KADOKAWA
UID:9784041172308@kyohatsu.lb-product.com
END:VEVENT
END:VCALENDAR
