BEGIN:VCALENDAR
VERSION:2.0
PRODID:-//kyohatsu//JP
CALSCALE:GREGORIAN
BEGIN:VEVENT
DTSTART;VALUE=DATE:20260608
SUMMARY:魔法少女イナバ 2
DESCRIPTION:猫にゃん ブシロードワークス
UID:9784049211504@kyohatsu.lb-product.com
END:VEVENT
END:VCALENDAR
