BEGIN:VCALENDAR
VERSION:2.0
PRODID:-//kyohatsu//JP
CALSCALE:GREGORIAN
BEGIN:VEVENT
DTSTART;VALUE=DATE:20260501
SUMMARY:すべてを奪われた少女は隣国にて返り咲く2
DESCRIPTION:狭山ひびき TOブックス
UID:9784867949917@kyohatsu.lb-product.com
END:VEVENT
END:VCALENDAR
