BEGIN:VCALENDAR
VERSION:2.0
PRODID:-//kyohatsu//JP
CALSCALE:GREGORIAN
BEGIN:VEVENT
DTSTART;VALUE=DATE:20260525
SUMMARY:ベアフェイス　〜公安を去った男〜　7
DESCRIPTION:狛犬 はやと 少年画報社
UID:9784785982027@kyohatsu.lb-product.com
END:VEVENT
END:VCALENDAR
