BEGIN:VCALENDAR
VERSION:2.0
PRODID:-//kyohatsu//JP
CALSCALE:GREGORIAN
BEGIN:VEVENT
DTSTART;VALUE=DATE:20260515
SUMMARY:生きづらさの正体
DESCRIPTION:犯罪学教室のかなえ先生 小学館
UID:9784093898553@kyohatsu.lb-product.com
END:VEVENT
END:VCALENDAR
