BEGIN:VCALENDAR
VERSION:2.0
PRODID:-//kyohatsu//JP
CALSCALE:GREGORIAN
BEGIN:VEVENT
DTSTART;VALUE=DATE:20260604
SUMMARY:にこにこ元気☆ハッピーちゃん 1
DESCRIPTION:犬嶋 乃介 集英社
UID:9784088850498@kyohatsu.lb-product.com
END:VEVENT
END:VCALENDAR
