BEGIN:VCALENDAR
VERSION:2.0
PRODID:-//kyohatsu//JP
CALSCALE:GREGORIAN
BEGIN:VEVENT
DTSTART;VALUE=DATE:20260701
SUMMARY:【同時購入特典】「憑物語　Original Soundtracks」+「終物語　Original Soundtracks」+「続・終物語　Original Soundtracks」セット(A4タペストリー)
DESCRIPTION:物語シリーズ 
UID:2100014957814@kyohatsu.lb-product.com
END:VEVENT
END:VCALENDAR
