BEGIN:VCALENDAR
VERSION:2.0
PRODID:-//kyohatsu//JP
CALSCALE:GREGORIAN
BEGIN:VEVENT
DTSTART;VALUE=DATE:20260701
SUMMARY:GOLDEN☆BEST/爆風スランプ ALL SINGLES
DESCRIPTION:爆風スランプ (株)ソニー・ミュージックダイレクト
UID:4547366819052@kyohatsu.lb-product.com
END:VEVENT
END:VCALENDAR
