BEGIN:VCALENDAR
VERSION:2.0
PRODID:-//kyohatsu//JP
CALSCALE:GREGORIAN
BEGIN:VEVENT
DTSTART;VALUE=DATE:20260618
SUMMARY:怪しいおまわりさん 3
DESCRIPTION:無機質 集英社
UID:9784088942599@kyohatsu.lb-product.com
END:VEVENT
END:VCALENDAR
