BEGIN:VCALENDAR
VERSION:2.0
PRODID:-//kyohatsu//JP
CALSCALE:GREGORIAN
BEGIN:VEVENT
DTSTART;VALUE=DATE:20260522
SUMMARY:わたしの宇野千代
DESCRIPTION:瀬戸内寂聴 中央公論新社
UID:9784122077935@kyohatsu.lb-product.com
END:VEVENT
END:VCALENDAR
