BEGIN:VCALENDAR
VERSION:2.0
PRODID:-//kyohatsu//JP
CALSCALE:GREGORIAN
BEGIN:VEVENT
DTSTART;VALUE=DATE:20260627
SUMMARY:『新劇場版☆ケロロ軍曹 復活して速攻地球滅亡の危機であります！』オリジナル・サウンドトラック
DESCRIPTION:瀬川英史 (株)バンダイナムコミュージックライブ
UID:4580547060935@kyohatsu.lb-product.com
END:VEVENT
END:VCALENDAR
