BEGIN:VCALENDAR
VERSION:2.0
PRODID:-//kyohatsu//JP
CALSCALE:GREGORIAN
BEGIN:VEVENT
DTSTART;VALUE=DATE:20260501
SUMMARY:今日も、未来の話をしている　がん夫婦が描いた定年後のライフワーク
DESCRIPTION:瀧川きらり 文芸社
UID:9784286273716@kyohatsu.lb-product.com
END:VEVENT
END:VCALENDAR
