BEGIN:VCALENDAR
VERSION:2.0
PRODID:-//kyohatsu//JP
CALSCALE:GREGORIAN
BEGIN:VEVENT
DTSTART;VALUE=DATE:20260619
SUMMARY:永田町の人をウォッチしてみた
DESCRIPTION:澤田大樹 カンゼン
UID:9784862558091@kyohatsu.lb-product.com
END:VEVENT
END:VCALENDAR
