BEGIN:VCALENDAR
VERSION:2.0
PRODID:-//kyohatsu//JP
CALSCALE:GREGORIAN
BEGIN:VEVENT
DTSTART;VALUE=DATE:20260427
SUMMARY:面白くなけりゃ遊びでない
DESCRIPTION:澤木元紀 パレード
UID:9784434377648@kyohatsu.lb-product.com
END:VEVENT
END:VCALENDAR
