BEGIN:VCALENDAR
VERSION:2.0
PRODID:-//kyohatsu//JP
CALSCALE:GREGORIAN
BEGIN:VEVENT
DTSTART;VALUE=DATE:20260501
SUMMARY:プロジェクトS　アメリカEPAの野外試験に挑戦し、世界で初めて成功させた会社員の
DESCRIPTION:澤仁 文芸社
UID:9784286275840@kyohatsu.lb-product.com
END:VEVENT
END:VCALENDAR
