BEGIN:VCALENDAR
VERSION:2.0
PRODID:-//kyohatsu//JP
CALSCALE:GREGORIAN
BEGIN:VEVENT
DTSTART;VALUE=DATE:20260618
SUMMARY:燃え尽き吸血鬼の音楽
DESCRIPTION:滝本 竜彦 小学館
UID:9784094532999@kyohatsu.lb-product.com
END:VEVENT
END:VCALENDAR
