BEGIN:VCALENDAR
VERSION:2.0
PRODID:-//kyohatsu//JP
CALSCALE:GREGORIAN
BEGIN:VEVENT
DTSTART;VALUE=DATE:20260612
SUMMARY:長い一日
DESCRIPTION:滝口 悠生 講談社
UID:9784065431801@kyohatsu.lb-product.com
END:VEVENT
END:VCALENDAR
