BEGIN:VCALENDAR
VERSION:2.0
PRODID:-//kyohatsu//JP
CALSCALE:GREGORIAN
BEGIN:VEVENT
DTSTART;VALUE=DATE:20260603
SUMMARY:RISING SUN TOUR 2025 再武装
DESCRIPTION:湾岸の羊〜Sheep living on the edge〜 BLACK RAIN MUSIC
UID:4543034054244@kyohatsu.lb-product.com
END:VEVENT
END:VCALENDAR
