BEGIN:VCALENDAR
VERSION:2.0
PRODID:-//kyohatsu//JP
CALSCALE:GREGORIAN
BEGIN:VEVENT
DTSTART;VALUE=DATE:20260601
SUMMARY:やってはいけない
DESCRIPTION:湖西 晶 日本文芸社
UID:9784537223828@kyohatsu.lb-product.com
END:VEVENT
END:VCALENDAR
