BEGIN:VCALENDAR
VERSION:2.0
PRODID:-//kyohatsu//JP
CALSCALE:GREGORIAN
BEGIN:VEVENT
DTSTART;VALUE=DATE:20260531
SUMMARY:イン・ザ・ウィンド
DESCRIPTION:渥美二郎 新日本出版社
UID:9784406069830@kyohatsu.lb-product.com
END:VEVENT
END:VCALENDAR
