BEGIN:VCALENDAR
VERSION:2.0
PRODID:-//kyohatsu//JP
CALSCALE:GREGORIAN
BEGIN:VEVENT
DTSTART;VALUE=DATE:20260601
SUMMARY:10歳からの強く生きる力が育つ偉人の話
DESCRIPTION:渡部昇一 致知出版社
UID:9784800913562@kyohatsu.lb-product.com
END:VEVENT
END:VCALENDAR
