BEGIN:VCALENDAR
VERSION:2.0
PRODID:-//kyohatsu//JP
CALSCALE:GREGORIAN
BEGIN:VEVENT
DTSTART;VALUE=DATE:20260527
SUMMARY:病気と死を招く「超加工食品」
DESCRIPTION:渡辺雄二 幻冬舎
UID:9784344988071@kyohatsu.lb-product.com
END:VEVENT
END:VCALENDAR
