BEGIN:VCALENDAR
VERSION:2.0
PRODID:-//kyohatsu//JP
CALSCALE:GREGORIAN
BEGIN:VEVENT
DTSTART;VALUE=DATE:20260507
SUMMARY:海の向こうからの贈りもの
DESCRIPTION:渡辺仁史 渡辺仁史
UID:9784306085756@kyohatsu.lb-product.com
END:VEVENT
END:VCALENDAR
