BEGIN:VCALENDAR
VERSION:2.0
PRODID:-//kyohatsu//JP
CALSCALE:GREGORIAN
BEGIN:VEVENT
DTSTART;VALUE=DATE:20260522
SUMMARY:ミルクなきみとビターな彼 2
DESCRIPTION:渡辺 馨 フロンティアワークス
UID:9784866579344@kyohatsu.lb-product.com
END:VEVENT
END:VCALENDAR
