BEGIN:VCALENDAR
VERSION:2.0
PRODID:-//kyohatsu//JP
CALSCALE:GREGORIAN
BEGIN:VEVENT
DTSTART;VALUE=DATE:20260529
SUMMARY:ゴールデン・ガイ （　14）
DESCRIPTION:渡辺 潤 日本文芸社
UID:9784537173994@kyohatsu.lb-product.com
END:VEVENT
END:VCALENDAR
