BEGIN:VCALENDAR
VERSION:2.0
PRODID:-//kyohatsu//JP
CALSCALE:GREGORIAN
BEGIN:VEVENT
DTSTART;VALUE=DATE:20260513
SUMMARY:私雨邸の殺人に関する各人の視点
DESCRIPTION:渡辺 優 双葉社
UID:9784575529241@kyohatsu.lb-product.com
END:VEVENT
END:VCALENDAR
