BEGIN:VCALENDAR
VERSION:2.0
PRODID:-//kyohatsu//JP
CALSCALE:GREGORIAN
BEGIN:VEVENT
DTSTART;VALUE=DATE:20260605
SUMMARY:教養としてのカレー
DESCRIPTION:清水 侑季 集英社
UID:9784087881295@kyohatsu.lb-product.com
END:VEVENT
END:VCALENDAR
