BEGIN:VCALENDAR
VERSION:2.0
PRODID:-//kyohatsu//JP
CALSCALE:GREGORIAN
BEGIN:VEVENT
DTSTART;VALUE=DATE:20260608
SUMMARY:溺れる日々はきみのせい　5
DESCRIPTION:深澤ねじ 祥伝社
UID:9784396751036@kyohatsu.lb-product.com
END:VEVENT
END:VCALENDAR
