BEGIN:VCALENDAR
VERSION:2.0
PRODID:-//kyohatsu//JP
CALSCALE:GREGORIAN
BEGIN:VEVENT
DTSTART;VALUE=DATE:20260605
SUMMARY:ウチの万李がお世話になります 5
DESCRIPTION:海道 ちとせ 白泉社
UID:9784592231363@kyohatsu.lb-product.com
END:VEVENT
END:VCALENDAR
