BEGIN:VCALENDAR
VERSION:2.0
PRODID:-//kyohatsu//JP
CALSCALE:GREGORIAN
BEGIN:VEVENT
DTSTART;VALUE=DATE:20260528
SUMMARY:ある映画の異変について目撃情報を募ります2（仮）
DESCRIPTION:海藤文字 スターツ出版
UID:9784813796299@kyohatsu.lb-product.com
END:VEVENT
END:VCALENDAR
