BEGIN:VCALENDAR
VERSION:2.0
PRODID:-//kyohatsu//JP
CALSCALE:GREGORIAN
BEGIN:VEVENT
DTSTART;VALUE=DATE:20260610
SUMMARY:彼は友達（4）
DESCRIPTION:浦野 月鼓 講談社
UID:9784065439524@kyohatsu.lb-product.com
END:VEVENT
END:VCALENDAR
