BEGIN:VCALENDAR
VERSION:2.0
PRODID:-//kyohatsu//JP
CALSCALE:GREGORIAN
BEGIN:VEVENT
DTSTART;VALUE=DATE:20260604
SUMMARY:走れ！ウンコオー　11
DESCRIPTION:浦田カズヒロ 文響社
UID:9784868450757@kyohatsu.lb-product.com
END:VEVENT
END:VCALENDAR
