BEGIN:VCALENDAR
VERSION:2.0
PRODID:-//kyohatsu//JP
CALSCALE:GREGORIAN
BEGIN:VEVENT
DTSTART;VALUE=DATE:20260518
SUMMARY:うみのいきものいっぱい
DESCRIPTION:浦中こういち クレヨンハウス
UID:9784861014192@kyohatsu.lb-product.com
END:VEVENT
END:VCALENDAR
