BEGIN:VCALENDAR
VERSION:2.0
PRODID:-//kyohatsu//JP
CALSCALE:GREGORIAN
BEGIN:VEVENT
DTSTART;VALUE=DATE:20260722
SUMMARY:君が人生の時…【完全生産限定アナログ盤】
DESCRIPTION:浜田省吾 (株)ソニー・ミュージックレーベルズ
UID:4547366803891@kyohatsu.lb-product.com
END:VEVENT
BEGIN:VEVENT
DTSTART;VALUE=DATE:20260722
SUMMARY:MIND SCREEN【完全生産限定アナログ盤】
DESCRIPTION:浜田省吾 (株)ソニー・ミュージックレーベルズ
UID:4547366803884@kyohatsu.lb-product.com
END:VEVENT
BEGIN:VEVENT
DTSTART;VALUE=DATE:20260722
SUMMARY:Home Bound【完全生産限定アナログ盤】
DESCRIPTION:浜田省吾 (株)ソニー・ミュージックレーベルズ
UID:4547366803860@kyohatsu.lb-product.com
END:VEVENT
BEGIN:VEVENT
DTSTART;VALUE=DATE:20260722
SUMMARY:Illumination【完全生産限定アナログ盤】
DESCRIPTION:浜田省吾 (株)ソニー・ミュージックレーベルズ
UID:4547366803877@kyohatsu.lb-product.com
END:VEVENT
END:VCALENDAR
