BEGIN:VCALENDAR
VERSION:2.0
PRODID:-//kyohatsu//JP
CALSCALE:GREGORIAN
BEGIN:VEVENT
DTSTART;VALUE=DATE:20260501
SUMMARY:桜・さくら
DESCRIPTION:浜みどり リフレ出版／東京図書出版
UID:9784866419787@kyohatsu.lb-product.com
END:VEVENT
END:VCALENDAR
