BEGIN:VCALENDAR
VERSION:2.0
PRODID:-//kyohatsu//JP
CALSCALE:GREGORIAN
BEGIN:VEVENT
DTSTART;VALUE=DATE:20260604
SUMMARY:であいもん　（21）
DESCRIPTION:浅野りん KADOKAWA
UID:9784041174326@kyohatsu.lb-product.com
END:VEVENT
END:VCALENDAR
