BEGIN:VCALENDAR
VERSION:2.0
PRODID:-//kyohatsu//JP
CALSCALE:GREGORIAN
BEGIN:VEVENT
DTSTART;VALUE=DATE:20260513
SUMMARY:ジオフェンス　蔦谷昂一郎の捜査録
DESCRIPTION:浅沢英 徳間書店
UID:9784198661991@kyohatsu.lb-product.com
END:VEVENT
END:VCALENDAR
