BEGIN:VCALENDAR
VERSION:2.0
PRODID:-//kyohatsu//JP
CALSCALE:GREGORIAN
BEGIN:VEVENT
DTSTART;VALUE=DATE:20260625
SUMMARY:雑司ヶ谷の朝食屋 きつね 〜ふっくらお揚げのきつねご飯〜（1）
DESCRIPTION:浅木　伊都 KADOKAWA
UID:9784049522051@kyohatsu.lb-product.com
END:VEVENT
END:VCALENDAR
