BEGIN:VCALENDAR
VERSION:2.0
PRODID:-//kyohatsu//JP
CALSCALE:GREGORIAN
BEGIN:VEVENT
DTSTART;VALUE=DATE:20260527
SUMMARY:きみの願いが叶うまで 2
DESCRIPTION:浅月　のりと KADOKAWA
UID:9784049522297@kyohatsu.lb-product.com
END:VEVENT
END:VCALENDAR
