BEGIN:VCALENDAR
VERSION:2.0
PRODID:-//kyohatsu//JP
CALSCALE:GREGORIAN
BEGIN:VEVENT
DTSTART;VALUE=DATE:20260525
SUMMARY:100日後に別れる僕と彼（1）
DESCRIPTION:浅原　ナオト KADOKAWA
UID:9784041173046@kyohatsu.lb-product.com
END:VEVENT
END:VCALENDAR
