BEGIN:VCALENDAR
VERSION:2.0
PRODID:-//kyohatsu//JP
CALSCALE:GREGORIAN
BEGIN:VEVENT
DTSTART;VALUE=DATE:20260528
SUMMARY:小説教室
DESCRIPTION:津原泰水 東京創元社
UID:9784488027728@kyohatsu.lb-product.com
END:VEVENT
END:VCALENDAR
