BEGIN:VCALENDAR
VERSION:2.0
PRODID:-//kyohatsu//JP
CALSCALE:GREGORIAN
BEGIN:VEVENT
DTSTART;VALUE=DATE:20260424
SUMMARY:烏と孔雀
DESCRIPTION:津原 泰水 河出書房新社
UID:9784309032627@kyohatsu.lb-product.com
END:VEVENT
END:VCALENDAR
