BEGIN:VCALENDAR
VERSION:2.0
PRODID:-//kyohatsu//JP
CALSCALE:GREGORIAN
BEGIN:VEVENT
DTSTART;VALUE=DATE:20260624
SUMMARY:人生笑って…
DESCRIPTION:泉昇太 (株)ホリデージャパン
UID:4549767201894@kyohatsu.lb-product.com
END:VEVENT
END:VCALENDAR
